Workbook
Name 부처명: [1]구분!$G$2:$G$22
Name 부처명: 구분!$G$5:$G$25
Name 사업구분: [1]구분!$I$2:$I$7
Name 사업구분: 구분!$I$2:$I$7
Name 재원: 구분2!$G$7:$G$25
Name 재원구분: 구분2!$J$7:$J$44
Name 참여형태: [1]구분!$B$2:$B$6
Name 참여형태: 구분!$B$2:$B$6
Name 협약구분: [1]구분!$K$2:$K$3

Sheet 제안서 제출 신청서
B3: 제안서(연구계획서) 제출 신청서
B4: 1. 제출마감일 | H4: 2. 사업구분
B5: 3. 보안과제현황 | E5: =IF(AND(J4="국가연구개발사업",B5="3. 보안과제현황"),"보안과제","") | I5: =IF(AND(J4>0),"일반과제","")
B6: 4. 지원기관 | J6: 5. 재 원
B7: 6. 사 업 명
B8: 7. 과 제 명
B9: 8. 연구책임자 | C9: 소속(학부/과) | I9: 성 명
B10: 9. 참여형태 | C10: 단독(참여기관이 없음) | G10: =IF(C10=구분!B3,"수탁기관",IF(C10=구분!B4,"주관기관",IF(C10=구분!B5,"위탁기관",IF(C10=구분!B6,"협동기관","참여기관")))) -> 참여기관
B11: 10. 연구기간 | C11: 연구시작일 | E11: 연구종료일 | G11: 개월수 | I11: 11. 총사업비(협동연구비 등 포함)
B12: 10-1. 총연구기간 | G12: =IF(OR(E12="", C12=""), "총 개월", (YEAR(E12)-YEAR(C12))*12+MONTH(E12)-MONTH(C12)+(DAY(E12)-DAY(C12))/30) -> 총 개월 | I12: 11-1. 총사업비
B13: 10-2. 당해 연구기간 | G13: =IF(OR(E13="", C13=""), "총 개월", (YEAR(E13)-YEAR(C13))*12+MONTH(E13)-MONTH(C13)+(DAY(E13)-DAY(C13))/30) -> 총 개월 | I13: 11-2. 당해 사업비
B14: 12. 당해연도 중앙관리 연구비 예산 | C14: 인건비 | I14: 연구수당
C15: 학생인건비 | I15: 위탁연구개발비
C16: 연구장비·재료비 | I16: 간접비(일반관리비)
C17: 연구활동비(경비) | I17: 소 계 | L17: =IF(SUM(F14:H18,L14:N16)=0, "", SUM(F14:H18,L14:N16))
C18: 연구과제추진비 | I18: 협동연구비
C19: 직접비 대비 간접비율 | G19: =IF(SUM(F14:H18,L14:N15)=0, " %", L16/SUM(F14:H18,L14:N15)) -> % | I19: 총액 대비 간접비율 | M19: =IF(SUM(F14:H18,L14:N15)=0, " %", L16/SUM(F14:H18,L14:N16)) -> %
C20: 부가가치세 | I20: 합 계 | L20: =IF(SUM(L17:N18,F20)=0,"",SUM(L17:N18,F20))
C21: =IF(G19=" %", "※ 우리산단은 간접경비가 최대 인건비+직접비의 28.6%로 승인된 기관입니다. 28.6%미만인 과제는 간접경비 책정을 증빙할 근거서류(공문)를 첨부하여 주시기 바랍니다.", IF(G19<28.6%, "※ 간접비율이 28.6%미만입니다. 간접경비 책정을 증빙할 근거서류(공문)을 첨부하여 주시기 바랍니다.", IF(G19>=28.6%, "※ 우리산단은 간접경비가 최대 인건비+직접비의 28.6%로 승인된 기관입니다.", "입력 오류"))) -> ※ 우리산단은 간접경비가 최대 인건비+직접비의 28.6%로 승인된 기관입니다. 28.6%미만인 과제는 간접경비 책정을 증빙할 근거서류(공문)를 첨부하여 주시기 바랍니다.
B22: 13. 간접비책정근거
B23: 14. 지원기관 제출서류
G24: 기타 서류
B25: 15. 제출방법 | J25: 방법
C26: 전자입찰일시 | E26: 년 월 일 시 분 | J26: ※전자입찰시 연구책임자가 산학협력단에 직접 방문하셔야 합니다.
B27: 본인은 지원기관 및 상명대학교(산학협력단)의 제규정(기준)을 준수하여 제안서(연구계획서)를 작성하였음을 확약하며 제안서(연구계획서) 제출을 신청합니다.
B28: 붙임 | C28: 1. 제안서(연구계획서) 1부.
C29: 2. 사업공고문 1부.
B31: =IF(K9<>"",CONCATENATE(YEAR(TODAY()),"년 ",MONTH(TODAY()),"월 ",DAY(TODAY()),"일"),"20 년 월 일") -> 20 년 월 일
I33: 신청인: | J33: =IF(K9="","",K9) | M33: (인)
B35: 상명대학교 천안산학협력단장 귀하

Sheet 학술(기술)연구 수행확인서
A3: 학술(기술)연구용역 수행(예정) 확인서
A5: 연구 개요 | B5: 용역명 | C5: ='제안서 제출 신청서'!C8 -> 0
B6: 지원기관 | C6: ='제안서 제출 신청서'!C6 -> 0
B7: 연구책임자 | C7: ='제안서 제출 신청서'!K9 -> 0
B8: 과제수행기간 | C8: ='제안서 제출 신청서'!C13:D13 -> 0 | D8: ~ | E8: ='제안서 제출 신청서'!E13:F13 -> 0
B9: 총연구비 | C9: ='제안서 제출 신청서'!K12 -> 0
B10: 당해연구비 | C10: ='제안서 제출 신청서'!K13 -> 0
A11: 연구 내용 | B11: 연구 성격 | C11: 새로운 학술(기술) 개발을 위한 | D11: 입력(클릭)
B12: 연구 개요
A15: 본 학술(기술) 연구용역은 상기와 같이 부가가치세법 시행규칙 제32조에 부합하는 연구로서 연구비 집행시 부가세 면제 사업임을 확인하며, 면세집행에 따른 책임을 다 할 것을 확약합니다.
E17: =TODAY() -> 43316
E19: ="연 구 책 임 자 : "&C7&" (인)" -> 연 구 책 임 자 : 0 (인)
A22: 상명대학교 천안산학협력단장 귀하
B49: 입력(클릭)
B50: 새로운 이론 연구
B51: 새로운 방법 연구
B52: 새로운 공법 연구
B53: 새로운 공식 연구

Sheet 간접비계산공식
A2: 간접비 고시율 | B2: 0.29
A5: 총연구비 | B5: 간접비 계상액 (천원미만 절사) | C5: 계산공식 간접비 (천원미만 절사전) | D5: 순수연구비 | E5: 실제 간접비율
A6: 90000000 | B6: =ROUNDDOWN(A6-A6/(1+B2),-3) -> 20232000 | C6: =A6-A6/(1+B2) -> 20232558 | D6: =A6-B6 -> 69768000 | E6: =B6/D6 -> 0.28998968

Sheet 구분
B1: 참여형태 | G1: 재원 | I1: 사업구분 | K1: 협약구분
B2: 단독(참여기관이 없음) | G2: 민간 | I2: 국가연구개발사업 | K2: 신규계약(협약)
B3: 수탁(위탁받은 과제) | G3: 지자체 | I3: 학술연구지원사업 | K3: 연차계약(협약)
B4: 공동(외부기관이 주관) | G4: 교육과학기술부 | I4: 연구용역사업
B5: 위탁(위탁을 준 과제) | G5: 지식경제부 | I5: 위탁운영사업
B6: 협동(본대학 주관 공동과제) | G6: 문화체육관광부 | I6: 교육사업
G7: 국토해양부 | I7: 기타
G8: 농림수산식품부
G9: 보건복지부
G10: 여성가족부
G11: 고용노동부
G12: 통일부
G13: 행정안전부
G14: 기획재정부
G15: 외교통상부
G16: 국방부
G17: 법무부
G18: 환경부
G19: 법제처
... G22: 기타정부기관
A23: 결 재 | B23: 담 당 | C23: 주임/과장 | D23: 팀 장 | E23: 처장(단장)

Sheet 구분2
A1: 결 재 | B1: 담당 | C1: 주임/과장 | D1: 팀장/국장 | E1: 부단장 | F1: 처장/단장
B6: 입력(클릭) | G6: 재원 | I6: 순번 | J6: 재원구분
B7: 새로운 이론 연구 | I7: 0 | J7: [기타/지자체]
B8: 새로운 방법 연구 | I8: 1 | J8: [민간/산업체]
B9: 새로운 공법 연구 | I9: 2 | J9: [비영리기관]
B10: 새로운 공식 연구 | I10: 100 | J10: 기획재정부
G11: 기타 | I11: 200 | J11: 과학기술정보통신부
I12: 300 | J12: 통일부
I13: 400 | J13: 국방부
I14: 500 | J14: 문화체육관광부
I15: 600 | J15: 산업통상자원부
I16: 700 | J16: 환경부
G17: 민간/산업체 | I17: 800 | J17: 여성가족부
I18: 900 | J18: 해양수산부
I19: 1000 | J19: 교육부
G20: 비영리기관 | I20: 1100 | J20: 외교부
I21: 1200 | J21: 법무부
I22: 1300 | J22: 행정안전부
I23: 1400 | J23: 농림축산식품부
I24: 1500 | J24: 보건복지부
I25: 1600 | J25: 고용노동부
I26: 1700 | J26: 국토교통부
I27: 1800 | J27: 중소벤처기업부
I28: 100001 | J28: (국세청)_기획재정부
I29: 100002 | J29: (관세청)_기획재정부
I30: 100003 | J30: (조달청)_기획재정부
I31: 100004 | J31: (통계청)_기획재정부
I32: 400001 | J32: (병무청)_국방부
... I44: 1700002 | J44: (새만금개발청)_국토교통부

Sheet Sheet1
